BEGIN:VCALENDAR
VERSION:2.0
PRODID:-//Upper Wharfedale Field Society - ECPv6.15.20//NONSGML v1.0//EN
CALSCALE:GREGORIAN
METHOD:PUBLISH
X-ORIGINAL-URL:https://uwfs.org.uk
X-WR-CALDESC:Events for Upper Wharfedale Field Society
REFRESH-INTERVAL;VALUE=DURATION:PT1H
X-Robots-Tag:noindex
X-PUBLISHED-TTL:PT1H
BEGIN:VTIMEZONE
TZID:Europe/London
BEGIN:DAYLIGHT
TZOFFSETFROM:+0000
TZOFFSETTO:+0100
TZNAME:BST
DTSTART:20250330T010000
END:DAYLIGHT
BEGIN:STANDARD
TZOFFSETFROM:+0100
TZOFFSETTO:+0000
TZNAME:GMT
DTSTART:20251026T010000
END:STANDARD
BEGIN:DAYLIGHT
TZOFFSETFROM:+0000
TZOFFSETTO:+0100
TZNAME:BST
DTSTART:20260329T010000
END:DAYLIGHT
BEGIN:STANDARD
TZOFFSETFROM:+0100
TZOFFSETTO:+0000
TZNAME:GMT
DTSTART:20261025T010000
END:STANDARD
BEGIN:DAYLIGHT
TZOFFSETFROM:+0000
TZOFFSETTO:+0100
TZNAME:BST
DTSTART:20270328T010000
END:DAYLIGHT
BEGIN:STANDARD
TZOFFSETFROM:+0100
TZOFFSETTO:+0000
TZNAME:GMT
DTSTART:20271031T010000
END:STANDARD
END:VTIMEZONE
BEGIN:VEVENT
DTSTART;TZID=Europe/London:20260309T193000
DTEND;TZID=Europe/London:20260309T203000
DTSTAMP:20260425T144056
CREATED:20250831T095935Z
LAST-MODIFIED:20250831T095935Z
UID:11260-1773084600-1773088200@uwfs.org.uk
SUMMARY:Overground and Underground: new dates and interpretations for the archaeological caves and landscapes of Ingleborough
DESCRIPTION:
URL:https://uwfs.org.uk/event/overground-and-underground-new-dates-and-interpretations-for-the-archaeological-caves-and-landscapes-of-ingleborough/
LOCATION:Grassington: Octagon at Town Hall\, Town Hall\, Grassington\, Skipton\, North Yorkshire\, BD23 5AA\, United Kingdom
CATEGORIES:Talks
ATTACH;FMTTYPE=image/png:https://uwfs.org.uk/wp-content/uploads/2025/05/Overground-underground.png
END:VEVENT
END:VCALENDAR